BEGIN:VCALENDAR
VERSION:2.0
PRODID:-//WHYSE - ECPv6.15.20//NONSGML v1.0//EN
CALSCALE:GREGORIAN
METHOD:PUBLISH
X-WR-CALNAME:WHYSE
X-ORIGINAL-URL:https://whyse.pt
X-WR-CALDESC:Events for WHYSE
REFRESH-INTERVAL;VALUE=DURATION:PT1H
X-Robots-Tag:noindex
X-PUBLISHED-TTL:PT1H
BEGIN:VTIMEZONE
TZID:Europe/Lisbon
BEGIN:DAYLIGHT
TZOFFSETFROM:+0000
TZOFFSETTO:+0100
TZNAME:WEST
DTSTART:20240331T010000
END:DAYLIGHT
BEGIN:STANDARD
TZOFFSETFROM:+0100
TZOFFSETTO:+0000
TZNAME:WET
DTSTART:20241027T010000
END:STANDARD
BEGIN:DAYLIGHT
TZOFFSETFROM:+0000
TZOFFSETTO:+0100
TZNAME:WEST
DTSTART:20250330T010000
END:DAYLIGHT
BEGIN:STANDARD
TZOFFSETFROM:+0100
TZOFFSETTO:+0000
TZNAME:WET
DTSTART:20251026T010000
END:STANDARD
BEGIN:DAYLIGHT
TZOFFSETFROM:+0000
TZOFFSETTO:+0100
TZNAME:WEST
DTSTART:20260329T010000
END:DAYLIGHT
BEGIN:STANDARD
TZOFFSETFROM:+0100
TZOFFSETTO:+0000
TZNAME:WET
DTSTART:20261025T010000
END:STANDARD
END:VTIMEZONE
BEGIN:VEVENT
DTSTART;TZID=Europe/Lisbon:20250302T150000
DTEND;TZID=Europe/Lisbon:20250302T200000
DTSTAMP:20260422T131031
CREATED:20250220T184148Z
LAST-MODIFIED:20250410T002233Z
UID:2039-1740927600-1740945600@whyse.pt
SUMMARY:WHYSE EVENT ZERO
DESCRIPTION:THIS IS THE BEGINNING OF A BEAUTIFUL JOURNEY \nLINE-UP: \n15H00 – CHECK-IN\n15H15 – YOGA – By Maria Jiva\, an 800 hour Advanced Certified Jivamukti Yoga teacher\n16H30 – COLD PLUNGE AND LIGHT MEAL WITH TEA AND BONE BROTH\n17H45 – TALK: THE PILLARS OF WELLBEING By Whyse founders\, Francisco Teixeira and Nuno Carrapatoso\n19H00 – BREATHWORK AND SOUND JOURNEY\n19H45 – CLOSING
URL:https://whyse.pt/event/whyse-event-zero/
LOCATION:Dhara\, Travessa São Domingos de Benfica\, 9\, Lisboa\, Lisboa\, Portugal
CATEGORIES:Whyse Sundays
ATTACH;FMTTYPE=image/jpeg:https://whyse.pt/wp-content/uploads/2025/02/whyse-zero.jpg
GEO:38.7442857;-9.1794959
X-APPLE-STRUCTURED-LOCATION;VALUE=URI;X-ADDRESS=Dhara Travessa São Domingos de Benfica 9 Lisboa Lisboa Portugal;X-APPLE-RADIUS=500;X-TITLE=Travessa São Domingos de Benfica\, 9:geo:-9.1794959,38.7442857
END:VEVENT
END:VCALENDAR